BEGIN:VCALENDAR
VERSION:2.0
PRODID:-//eventon.com NONSGML v1.0//EN
CALSCALE:GREGORIAN
METHOD:PUBLISH
BEGIN:VEVENT
UID:69e91c616844d
DTSTAMP:20260422T190713Z
DTSTART:20250619T083000Z
DTEND:20250619T083000Z
LOCATION:University of Alberta Edmonton Campus 11011-88 Avenue Edmonton\,  Alberta\,  Canada T6G 2G5
SUMMARY:University of Alberta Physical Therapy Recruitment Fair
DESCRIPTION:Meet Island Health recruiters at UofA&#8217;s Edmonton campus o
 n July 19th and learn about upcoming rehabilitation careers within the Vanc
 ouver Island region!\nhttps://careers.islandhealth.ca/events/university-of-
 alberta-physical-therapy-recruitment-fair/
URL:https://careers.islandhealth.ca/events/university-of-alberta-physical-therapy-recruitment-fair/
END:VEVENT
END:VCALENDAR