BEGIN:VCALENDAR
VERSION:2.0
PRODID:-//eventon.com NONSGML v1.0//EN
CALSCALE:GREGORIAN
METHOD:PUBLISH
BEGIN:VEVENT
UID:69e92e3474c31
DTSTAMP:20260422T202316Z
DTSTART:20251029T220000Z
DTEND:20251030T000000Z
LOCATION:
SUMMARY:Physiotherapy and Occupational Therapy Students and New Graduates - Virtual Information Session
DESCRIPTION:Curious about the benefits of working in public healthcare? Joi
 n us for a Virtual Open House for Physiotherapists and Occupational Therapi
 sts where you can learn all about various opportunities at Island Health on
  Vancouver Island. Meet some of our dedicated members of the Rehabilitation
  portfolio\,  including the Rehabilitation Strategy team\, [..]\nhttps://ca
 reers.islandhealth.ca/events/physiotherapy-and-occupational-therapy-student
 s-and-new-graduates-virtual-information-session/
URL:https://careers.islandhealth.ca/events/physiotherapy-and-occupational-therapy-students-and-new-graduates-virtual-information-session/
END:VEVENT
END:VCALENDAR