BEGIN:VCALENDAR
VERSION:2.0
PRODID:-//eventon.com NONSGML v1.0//EN
CALSCALE:GREGORIAN
METHOD:PUBLISH
BEGIN:VEVENT
UID:69e96e368ce9e
DTSTAMP:20260423T005622Z
DTSTART:20251003T130000Z
DTEND:20251005T163000Z
LOCATION:
SUMMARY:SonoCon 2025
DESCRIPTION:Island Health will be attending the SonoCon 2025 Conference in 
 Ottawa as an exhibitor on October 3-5\,  2025 at the Hilton Lac-Leamy Hotel
 . We look forward to connecting with Medical Imaging professionals and show
 casing the many opportunities available with Island Health on beautiful Van
 couver Island. For more information regarding registration:[..]\nhttps://ca
 reers.islandhealth.ca/events/sonocon-2025/
URL:https://careers.islandhealth.ca/events/sonocon-2025/
END:VEVENT
END:VCALENDAR