BEGIN:VCALENDAR
VERSION:2.0
PRODID:-//eventon.com NONSGML v1.0//EN
CALSCALE:GREGORIAN
METHOD:PUBLISH
BEGIN:VEVENT
UID:69e980aa298b7
DTSTAMP:20260423T021506Z
DTSTART:20251008T173000Z
DTEND:20251009T223000Z
LOCATION:
SUMMARY:UBC Career Days
DESCRIPTION:Island Health is excited to participate in the UBC Career Days 
 as an exhibitor on October 8–9 at the Robert H. Lee Alumni Centre. The ev
 ent will run from 10:30 AM to 3:30 PM each day. We look forward to conn
 ecting with students and professionals alike\,  sharing insights about work
 ing with Island[..]\nhttps://careers.islandhealth.ca/events/ubc-career-days
 /
URL:https://careers.islandhealth.ca/events/ubc-career-days/
END:VEVENT
END:VCALENDAR