BEGIN:VCALENDAR
VERSION:2.0
PRODID:-//eventon.com NONSGML v1.0//EN
CALSCALE:GREGORIAN
METHOD:PUBLISH
BEGIN:VEVENT
UID:69e9a835b46f3
DTSTAMP:20260423T050349Z
DTSTART:20251015T143000Z
DTEND:20251015T223000Z
LOCATION:
SUMMARY:Hearts and Hands Conference
DESCRIPTION:Island Health will be an exhibitor at the Hearts &amp; Hands Na
 naimo event on October 15\,  2025\,  at the Vancouver Island Conference Cen
 tre. The event runs from 7:30 AM to 3:30 PM and features engaging sess
 ions with inspiring speakers\,  including Juno-nominated singer-songwriter 
 Peter Katz. We look forward to connecting with attendees and sharing[..]\nh
 ttps://careers.islandhealth.ca/events/hearts-and-hands-conference/
URL:https://careers.islandhealth.ca/events/hearts-and-hands-conference/
END:VEVENT
END:VCALENDAR