BEGIN:VCALENDAR
VERSION:2.0
PRODID:-//eventon.com NONSGML v1.0//EN
CALSCALE:GREGORIAN
METHOD:PUBLISH
BEGIN:VEVENT
UID:69e9bf398638e
DTSTAMP:20260423T064201Z
DTSTART:20251018T153000Z
DTEND:20251019T040000Z
LOCATION:
SUMMARY:CAMRT-BC - The Summit 2025
DESCRIPTION:Island Health is excited to be an exhibitor at the CAMRT-BC Sum
 mit 2025 on October 18\,  2025\,  at the Hilton Vancouver Metrotown in Burn
 aby\,  BC. We look forward to connecting with MRTs from across the province
 \,  sharing information about careers with Island Health\,  and highlightin
 g the many opportunities available in[..]\nhttps://careers.islandhealth.ca/
 events/camrt-bc-the-summit-2025/
URL:https://careers.islandhealth.ca/events/camrt-bc-the-summit-2025/
END:VEVENT
END:VCALENDAR