BEGIN:VCALENDAR
VERSION:2.0
PRODID:-//eventon.com NONSGML v1.0//EN
CALSCALE:GREGORIAN
METHOD:PUBLISH
BEGIN:VEVENT
UID:69e9d48d430bb
DTSTAMP:20260423T081301Z
DTSTART:20251021T170000Z
DTEND:20251021T210000Z
LOCATION:
SUMMARY:Career Fair - Campbell River
DESCRIPTION:Island Health will be an exhibitor at the WorkBC Hiring Fair in
  Campbell River on October 21\,  2025\,  from 10:00 AM to 2:00 PM at th
 e Campbell River Community Centre. We look forward to connecting with local
  professionals and sharing information about careers in healthcare. Learn a
 bout the many opportunities available with[..]\nhttps://careers.islandhealt
 h.ca/events/career-fair-campbell-river/
URL:https://careers.islandhealth.ca/events/career-fair-campbell-river/
END:VEVENT
END:VCALENDAR