BEGIN:VCALENDAR
VERSION:2.0
PRODID:-//eventon.com NONSGML v1.0//EN
CALSCALE:GREGORIAN
METHOD:PUBLISH
BEGIN:VEVENT
UID:69e9e808898c1
DTSTAMP:20260423T093608Z
DTSTART:20251024T000000Z
DTEND:20251026T161500Z
LOCATION:
SUMMARY:Canadian Cardiovascular Congress
DESCRIPTION:Island Health is proud to be an exhibitor at the Canadian Cardi
 ovascular Congress (CCC) 2025\,  taking place from October 23–26\,  2025\
 ,  at the Québec City Convention Centre. This premier event brings togethe
 r cardiovascular professionals from across Canada to share the latest resea
 rch\,  clinical advancements\,  and innovations in heart health. We[..]\nht
 tps://careers.islandhealth.ca/events/canadian-cardiovascular-congress/
URL:https://careers.islandhealth.ca/events/canadian-cardiovascular-congress/
END:VEVENT
END:VCALENDAR