BEGIN:VCALENDAR
VERSION:2.0
PRODID:-//eventon.com NONSGML v1.0//EN
CALSCALE:GREGORIAN
METHOD:PUBLISH
BEGIN:VEVENT
UID:69e9feb1a259b
DTSTAMP:20260423T111249Z
DTSTART:20251103T180000Z
DTEND:20251103T220000Z
LOCATION:
SUMMARY:University of Alberta - Healthcare Industry Career Fair
DESCRIPTION:Island Health is excited to be an exhibitor at the University o
 f Alberta Healthcare Industry Career Fair 2025\,  taking place on Monday\, 
  November 3\,  2025\,  from 11:00 AM to 3:00 PM at the Kipnes Academy (
 Formerly ECHA) in Edmonton\,  Alberta. We look forward to connecting with 
 emerging healthcare professionals and showcasing the many[..]\nhttps://care
 ers.islandhealth.ca/events/university-of-alberta-healthcare-industry-career
 -fair/
URL:https://careers.islandhealth.ca/events/university-of-alberta-healthcare-industry-career-fair/
END:VEVENT
END:VCALENDAR