BEGIN:VCALENDAR
VERSION:2.0
PRODID:-//eventon.com NONSGML v1.0//EN
CALSCALE:GREGORIAN
METHOD:PUBLISH
BEGIN:VEVENT
UID:69e9d5d7ce649
DTSTAMP:20260423T081831Z
DTSTART:20251112T180000Z
DTEND:20251112T223000Z
LOCATION:
SUMMARY:Michener Career Fair
DESCRIPTION:We’re excited to announce that Island Health will be attendin
 g the Michener Career Fair in Toronto\,  Ontario\,  as an exhibitor\,  taki
 ng place in November 2025 at the Michener Institute of Education at UHN. We
  look forward to connecting with students and healthcare professionals and 
 showcasing the many rewarding career opportunities[..]\nhttps://careers.isl
 andhealth.ca/events/michener-career-fair/
URL:https://careers.islandhealth.ca/events/michener-career-fair/
END:VEVENT
END:VCALENDAR