BEGIN:VCALENDAR
VERSION:2.0
PRODID:-//eventon.com NONSGML v1.0//EN
CALSCALE:GREGORIAN
METHOD:PUBLISH
BEGIN:VEVENT
UID:69ea415854fde
DTSTAMP:20260423T155712Z
DTSTART:20251117T201500Z
DTEND:20251117T221500Z
LOCATION:
SUMMARY:UBC Nursing Career Fair
DESCRIPTION:Island Health will be attending the UBC Nursing Fair as an exhi
 bitor on Monday\,  November 17\,  from 12:15 to 2:15 p.m. at the Great Hall
 \,  AMS Nest (2nd Floor)\,  6133 University Blvd\,  Vancouver\,  BC. Our te
 am looks forward to connecting with nursing students to discuss career oppo
 rtunities and share insights[..]\nhttps://careers.islandhealth.ca/events/37
 95/
URL:https://careers.islandhealth.ca/events/3795/
END:VEVENT
END:VCALENDAR