BEGIN:VCALENDAR
VERSION:2.0
PRODID:-//eventon.com NONSGML v1.0//EN
CALSCALE:GREGORIAN
METHOD:PUBLISH
BEGIN:VEVENT
UID:69ea3ce2268f9
DTSTAMP:20260423T153810Z
DTSTART:20260129T160000Z
DTEND:20260129T220000Z
LOCATION:
SUMMARY:NAIT Hiring Fair
DESCRIPTION:Island Health will be attending the NAIT Hiring Fair as an exhi
 bitor on Thursday\,  January 29\,  2026\,  from 9:00 a.m. to 3:00 p.m. at N
 AIT Main Campus. Our team looks forward to connecting with students and rec
 ent alumni to discuss career opportunities and share insights about working
  with Island Health[..]\nhttps://careers.islandhealth.ca/events/nait-hiring
 -fair/
URL:https://careers.islandhealth.ca/events/nait-hiring-fair/
END:VEVENT
END:VCALENDAR