BEGIN:VCALENDAR
VERSION:2.0
PRODID:-//eventon.com NONSGML v1.0//EN
CALSCALE:GREGORIAN
METHOD:PUBLISH
BEGIN:VEVENT
UID:69ea904f166bb
DTSTAMP:20260423T213407Z
DTSTART:20260127T213000Z
DTEND:20260128T000000Z
LOCATION:WorkBC Centre Nanaimo 155 Skinner Street
SUMMARY:WorkBC Nanaimo - Health Services Job Fair
DESCRIPTION:Island Health will be an exhibitor at the Nanaimo WorkBC Centre
  Job Fair for Health Services. Visit our booth to learn more about career o
 pportunities\,  the benefits of working for Island Health\,  and the variet
 y of roles available within our organization. Details:Date: January 27\,  2
 026Time: 1:30–4:00 p.m. PSTLocation: WorkBC Centre[..]\nhttps://careers.i
 slandhealth.ca/events/nanaimo-workbc-health-services-job-fair/
URL:https://careers.islandhealth.ca/events/nanaimo-workbc-health-services-job-fair/
END:VEVENT
END:VCALENDAR